BEGIN:VCALENDAR
VERSION:2.0
PRODID:-//ChamberMaster//Event Calendar 2.0//EN
METHOD:PUBLISH
X-PUBLISHED-TTL:P3D
REFRESH-INTERVAL:P3D
CALSCALE:GREGORIAN
BEGIN:VEVENT
DTSTART;VALUE=DATE:20110714
DTEND;VALUE=DATE:20110715
TRANSP:TRANSPARENT
X-MICROSOFT-CDO-ALLDAYEVENT:TRUE
SUMMARY:100th Anniversary at Beatrice Community Hospital
DESCRIPTION:The Beatrice Community Hospital will be celebrating its 100 Birthday on Thursday\, July 14\, 2011. \n\n\n\nOpen house at the current hospital location or the public from 3:00   5:00 p.m. \n\n\n\nInvitation-only event from 5:30   8:00 p.m. at the Holiday Inn Express.
X-ALT-DESC;FMTTYPE=text/html:<span style="font-size: 10pt"><span style="font-family: arial\, sans-serif">The Beatrice Community Hospital will be celebrating its 100 Birthday on Thursday\, July 14\, 2011.&nbsp\;<br />\n<br />\nOpen house at the current hospital location or the public from 3:00 &ndash\; 5:00 p.m.&nbsp\;<br />\n<br />\nInvitation-only event from 5:30 &ndash\; 8:00 p.m.&nbsp\;at the Holiday Inn Express.</span></span><br />\n
LOCATION:
UID:e.41.2892
SEQUENCE:3
DTSTAMP:20260424T153319Z
URL:https://business.beatricechamber.com/events/details/100th-anniversary-at-beatrice-community-hospital-07-14-2011-2892
END:VEVENT

END:VCALENDAR
