BEGIN:VCALENDAR
VERSION:2.0
PRODID:-//ChamberMaster//Event Calendar 2.0//EN
METHOD:PUBLISH
X-PUBLISHED-TTL:P3D
REFRESH-INTERVAL:P3D
CALSCALE:GREGORIAN
BEGIN:VEVENT
DTSTART;VALUE=DATE:20120925
DTEND;VALUE=DATE:20120926
TRANSP:TRANSPARENT
X-MICROSOFT-CDO-ALLDAYEVENT:TRUE
SUMMARY:10th Annual Great Books for Great Kids Fundraiser
DESCRIPTION:Runza Restaurants will conduct the 10th Annual Great Books for Great Kids fundraiser. The funds will benefit local libraries\, schools & literacy organizations and be used to purchase children's books. Last year\, over $30\,000 was raised to benefit children in communities with Runza locations and in the last nine years\, over $240\,000 has been donated.\n\n\n\nFifteen percent of sales on Tuesday from all locations will be donated to this effort.\n\n\n\nRunza Restaurants has been a long time supporter of reading.
X-ALT-DESC;FMTTYPE=text/html:Runza Restaurants will conduct the 10th Annual Great Books for Great Kids fundraiser. The funds will benefit local libraries\, schools &amp\; literacy organizations and be used to purchase children&#39\;s books. Last year\, over $30\,000 was raised to benefit children in communities with Runza locations and in the last nine years\, over $240\,000 has been donated.<br />\n<br />\nFifteen percent of sales on Tuesday from all locations will be donated to this effort.<br />\n<br />\nRunza Restaurants has been a long time supporter of reading.
LOCATION:Any Runza Restaurant
UID:e.41.6857
SEQUENCE:3
DTSTAMP:20260422T091125Z
URL:https://business.beatricechamber.com/events/details/10th-annual-great-books-for-great-kids-fundraiser-09-25-2012-6857
END:VEVENT

END:VCALENDAR
