BEGIN:VCALENDAR
VERSION:2.0
PRODID:-//ChamberMaster//Event Calendar 2.0//EN
METHOD:PUBLISH
X-PUBLISHED-TTL:P3D
REFRESH-INTERVAL:P3D
CALSCALE:GREGORIAN
BEGIN:VEVENT
DTSTART;VALUE=DATE:20120328
DTEND;VALUE=DATE:20120331
TRANSP:TRANSPARENT
X-MICROSOFT-CDO-ALLDAYEVENT:TRUE
SUMMARY:1862 and the Making of the Great Plains Symposium
DESCRIPTION:This symposium will examine the consequences of events in 1862 including four landmark pieces of legislation passed: the Homestead Act\, the Morrill Act\, the Pacific Railroad Act\, the act to establish the U.S. Department of Agriculture\; and the year of the fateful Dakota Conflict. \n\n	\n\n	Sponsored by the Center for Great Plains Studies\, University of Nebraska-Lincoln\, in collaboration with Homestead National Monument of America\, National Park Service
X-ALT-DESC;FMTTYPE=text/html:<p>\n	This symposium will examine the consequences&nbsp\;of events in 1862&nbsp\;including four landmark pieces of legislation passed: the Homestead Act\, the Morrill Act\, the Pacific Railroad Act\, the act to establish the U.S. Department of Agriculture\;&nbsp\;and the year of the fateful Dakota Conflict.&nbsp\;<br />\n	<br />\n	Sponsored&nbsp\;by the Center for Great Plains Studies\, University of Nebraska-Lincoln\, in collaboration with Homestead National Monument of America\, National Park Service</p>\n
LOCATION:University of Nebraska at Lincoln
UID:e.41.5344
SEQUENCE:3
DTSTAMP:20260422T173644Z
URL:https://business.beatricechamber.com/events/details/1862-and-the-making-of-the-great-plains-symposium-03-28-2012-5344
END:VEVENT

END:VCALENDAR
