BEGIN:VCALENDAR
VERSION:2.0
PRODID:-//ChamberMaster//Event Calendar 2.0//EN
METHOD:PUBLISH
X-PUBLISHED-TTL:P3D
REFRESH-INTERVAL:P3D
CALSCALE:GREGORIAN
BEGIN:VEVENT
DTSTART;VALUE=DATE:20110811
DTEND;VALUE=DATE:20110812
TRANSP:TRANSPARENT
X-MICROSOFT-CDO-ALLDAYEVENT:TRUE
SUMMARY:18th Annual Gospel Sing
DESCRIPTION:5 p.m.  Covered dish supper\, 6-10 p.m.  Gospel singing.  DeWitt Community Center\, DeWitt\, NE.  Bring covered dish and your own table service\, drinks provided.  Freewill offering. \n\n\n\nSinging groups call 402-683-3635 or 402-239-4576.
X-ALT-DESC;FMTTYPE=text/html:5 p.m.&nbsp\; Covered dish supper\, 6-10 p.m.&nbsp\; Gospel singing.&nbsp\; DeWitt Community Center\, DeWitt\, NE.&nbsp\; Bring covered dish and your own table service\, drinks provided.&nbsp\; Freewill offering.&nbsp\;<br />\n<br />\nSinging groups call 402-683-3635 or 402-239-4576.
LOCATION:
UID:e.41.5006
SEQUENCE:3
DTSTAMP:20260424T134428Z
URL:https://business.beatricechamber.com/events/details/18th-annual-gospel-sing-08-11-2011-5006
END:VEVENT

END:VCALENDAR
