BEGIN:VCALENDAR
VERSION:2.0
PRODID:-//ChamberMaster//Event Calendar 2.0//EN
METHOD:PUBLISH
X-PUBLISHED-TTL:P3D
REFRESH-INTERVAL:P3D
CALSCALE:GREGORIAN
BEGIN:VEVENT
DTSTART;VALUE=DATE:20110813
DTEND;VALUE=DATE:20110814
TRANSP:TRANSPARENT
X-MICROSOFT-CDO-ALLDAYEVENT:TRUE
SUMMARY:18th Annual Gospel Sing
DESCRIPTION:1-10 p.m. Gospel singing.  DeWitt Community Center\, DeWitt\, NE.  Freewill offering.\n\n\n\nSinging groups call 402-683-3635 or 402-239-4576.
X-ALT-DESC;FMTTYPE=text/html:1-10 p.m. Gospel singing.&nbsp\; DeWitt Community Center\, DeWitt\, NE.&nbsp\; Freewill offering.<br />\n<br />\nSinging groups call 402-683-3635 or 402-239-4576.<span _fck_bookmark="1" style="display: none">&nbsp\;</span>
LOCATION:
UID:e.41.5008
SEQUENCE:3
DTSTAMP:20260424T134428Z
URL:https://business.beatricechamber.com/events/details/18th-annual-gospel-sing-08-13-2011-5008
END:VEVENT

END:VCALENDAR
