BEGIN:VCALENDAR
VERSION:2.0
PRODID:-//ChamberMaster//Event Calendar 2.0//EN
METHOD:PUBLISH
X-PUBLISHED-TTL:P3D
REFRESH-INTERVAL:P3D
CALSCALE:GREGORIAN
BEGIN:VEVENT
DTSTART;VALUE=DATE:20120407
DTEND;VALUE=DATE:20120408
TRANSP:TRANSPARENT
X-MICROSOFT-CDO-ALLDAYEVENT:TRUE
SUMMARY:1st Annual Easter Hop
DESCRIPTION:1st Annual Easter Hop\n\n\n\nSaturday\, April 7th. 5k\, 10k and 1 mile Family Run/walk @ 8:30\n\n\n\nCost for 5k\, 10k is $25\, 1 mile is $10/person\n\n\n\nPrizes to include hams and gift basket drawing!\n\n\n\nSign up at the YMCA today!\n\n1801 Scott St.\, Beatrice 402-223-5266\n\n\n\nHotdogs and coloring contest for kids will follow the run!
X-ALT-DESC;FMTTYPE=text/html:1st Annual Easter Hop<br />\n<br />\nSaturday\, April 7th. 5k\, 10k and 1 mile Family Run/walk @ 8:30<br />\n<br />\nCost for&nbsp\;5k\,&nbsp\;10k is $25\, 1 mile is $10/person<br />\n<br />\nPrizes to include hams and gift basket drawing!<br />\n<br />\nSign up at the YMCA today!<br />\n1801 Scott St.\, Beatrice 402-223-5266<br />\n<br />\nHotdogs and coloring contest for kids will follow the run!<br />\n<br />\n<br />\n<br />\n
LOCATION:
UID:e.41.5463
SEQUENCE:3
DTSTAMP:20260422T154648Z
URL:https://business.beatricechamber.com/events/details/1st-annual-easter-hop-04-07-2012-5463
END:VEVENT

END:VCALENDAR
