BEGIN:VCALENDAR
VERSION:2.0
PRODID:-//ChamberMaster//Event Calendar 2.0//EN
METHOD:PUBLISH
X-PUBLISHED-TTL:P3D
REFRESH-INTERVAL:P3D
CALSCALE:GREGORIAN
BEGIN:VEVENT
DTSTART:20111015T130000Z
DTEND:20111015T170000Z
X-MICROSOFT-CDO-ALLDAYEVENT:FALSE
SUMMARY:1st Annual Pumpkin Run
DESCRIPTION:1st Annual Pumpkin Run 1 mile run/walk & 5K run sponsered by Beatrice Family Chiropractic.  All proceeds will be donated to Gage County's Shop with a Cop Program.  Prizes will be awarded to the top male and female finishers in each age division.  Register by October 5th to recieve a free T-shirt.
X-ALT-DESC;FMTTYPE=text/html:1st Annual Pumpkin Run 1 mile run/walk &amp\; 5K run sponsered by Beatrice Family Chiropractic.&nbsp\; All proceeds will be donated to Gage County&#39\;s Shop with a Cop Program.&nbsp\; Prizes will be awarded to the top male and female finishers in each age division.&nbsp\; Register by October 5th to recieve a free T-shirt.
LOCATION:Beatrice Family Chiropractic 2526 E. Court St.\, Beatrice\, NE 68310
UID:e.41.5105
SEQUENCE:3
DTSTAMP:20260424T111235Z
URL:https://business.beatricechamber.com/events/details/1st-annual-pumpkin-run-10-15-2011-5105
END:VEVENT

END:VCALENDAR
