BEGIN:VCALENDAR
VERSION:2.0
PRODID:-//ChamberMaster//Event Calendar 2.0//EN
METHOD:PUBLISH
X-PUBLISHED-TTL:P3D
REFRESH-INTERVAL:P3D
CALSCALE:GREGORIAN
BEGIN:VEVENT
DTSTART:20100320T150000Z
DTEND:20100320T220000Z
X-MICROSOFT-CDO-ALLDAYEVENT:FALSE
SUMMARY:2010 Farm & Home Show
DESCRIPTION:Calling all Farm\, Home and related businesses! The Beatrice Daily Sun will host the 2010 Farm & Home Show. With a central location\, extensive print and online promotion in the Beatrice\, Lincoln\, Fremont\, Columbus & Northern Kansas markets\, the 2010 Farm & Home Show is sure to be a terrific marketing opportunity for your business.
X-ALT-DESC;FMTTYPE=text/html:Calling all Farm\, Home and related businesses! The Beatrice Daily Sun will host the 2010 Farm &amp\; Home Show. With a central location\, extensive print and online promotion in the Beatrice\, Lincoln\, Fremont\, Columbus &amp\; Northern Kansas markets\, the 2010 Farm &amp\; Home Show is sure to be a terrific marketing opportunity for your business. 
LOCATION:Beatrice City Auditorium
UID:e.41.1577
SEQUENCE:3
DTSTAMP:20260425T153506Z
URL:https://business.beatricechamber.com/events/details/2010-farm-home-show-03-20-2010-1577
END:VEVENT

END:VCALENDAR
