BEGIN:VCALENDAR
VERSION:2.0
PRODID:-//ChamberMaster//Event Calendar 2.0//EN
METHOD:PUBLISH
X-PUBLISHED-TTL:P3D
REFRESH-INTERVAL:P3D
CALSCALE:GREGORIAN
BEGIN:VEVENT
DTSTART:20100117T190000Z
DTEND:20100117T220000Z
X-MICROSOFT-CDO-ALLDAYEVENT:FALSE
SUMMARY:2010 Sunland Area Bridal Fair
DESCRIPTION:Getting Married in the next Year? Save the Date! Plan to attend the Beatrice Daily Sun's 2010 Bridal Show Extravaganza. From florists to tuxedo rentals and beyond\, the event is sure to help you make the most of your important date! Join us from 1:00p.m. to 4:00p.m. Saturday\, the 17th at Holiday Inn Express in Beatrice. Register to win valuable door prizes from the area's premier wedding vendors. The 2010 Beatrice Daily Sun Bridal Show Extravaganza. Don't forget to Save the Date.
X-ALT-DESC;FMTTYPE=text/html:<div>Getting Married in the next Year? Save the Date! Plan to attend the Beatrice Daily Sun&rsquo\;s 2010 Bridal Show Extravaganza. From florists to tuxedo rentals and beyond\, the event is sure to help you make the most of your important date! Join us from 1:00p.m. to 4:00p.m. Saturday\, the 17th at Holiday Inn Express in Beatrice. Register to win valuable door prizes from the area&rsquo\;s premier wedding vendors. The 2010 Beatrice Daily Sun Bridal Show Extravaganza. Don&rsquo\;t forget to Save the Date. <br /><br />&nbsp\;</div>
LOCATION:Holiday Inn Express Beatrice
UID:e.41.1558
SEQUENCE:3
DTSTAMP:20260425T181507Z
URL:https://business.beatricechamber.com/events/details/2010-sunland-area-bridal-fair-01-17-2010-1558
END:VEVENT

END:VCALENDAR
