BEGIN:VCALENDAR
VERSION:2.0
PRODID:-//ChamberMaster//Event Calendar 2.0//EN
METHOD:PUBLISH
X-PUBLISHED-TTL:P3D
REFRESH-INTERVAL:P3D
CALSCALE:GREGORIAN
BEGIN:VEVENT
DTSTART;VALUE=DATE:20110126
DTEND;VALUE=DATE:20110127
TRANSP:TRANSPARENT
X-MICROSOFT-CDO-ALLDAYEVENT:TRUE
SUMMARY:2011 Ag-Management Expo of SE Nebraska
DESCRIPTION:5th Annual Ag Management Expo of Southeast Nebraska\n\n\n\nWednesday\, January 26\, 2011\n\n9 a.m. - 2 p.m.\n\n\n\nSCC-Beatrice Campus\, Truman Center\n\n4771 West Scott Road\, Beatrice\, NE\n\n\n\nFree Admission\n\nFree Lunch for the firsdt 200\, Tickets at the door\n\n\n\n9:00 - 9:45 \n\nDr. David Kohl\, President\, AgriVisions\, LLC\n\n"Ten Golden Rules of Ag Management"\n\n\n\n10:00 - 10:45\n\nAl Dutcher\, Nebraska State Climatologist\, UNL School of Natural Resources\n\n"2011 Weather Outlook"\n\n\n\n11:00 - 11:45\n\nDr. Daniel O'Brien\, KSU Extension Grain Marketing Specialist\n\n"2011 Grain Market Outlook"\n\nOR\n\nRick Pfortmiller\, Igenity\n\n"DNA - The New Frontier in the Beef Business"\n\n\n\nNoon - 1:30 \n\nKeynote Speaker:  Dr. David Kohl\, AgriVisions\, LLC\n\n"Mega Trends of Agriculture in the Age of Turbulence"\n\n\n\n\n\nsponsored by:  Beatrice Area Chamber of Commerce with assistance from MONSANTO imagine & Nebraska Pork Producers Association\n\n\n\n\n\nAgriVisions\, LLC is a knowledge based consulting business providing cutting-edge programs to leading agricultural organizations world-wide.
X-ALT-DESC;FMTTYPE=text/html:<strong><span style="font-size: 16px">5th Annual Ag Management Expo of Southeast Nebraska<br />\n<br />\n<span style="font-size: 14px">Wednesday\, January 26\, 2011<br />\n9 a.m. - 2 p.m.</span></span></strong><br />\n<br />\n<span style="font-size: 12px">SCC-Beatrice Campus\, Truman Center<br />\n4771 West Scott Road\, Beatrice\, NE<br />\n<br />\nFree Admission<br />\nFree Lunch for the firsdt 200\, Tickets at the door<br />\n<br />\n<strong>9:00 - 9:45 </strong><br />\nDr. David Kohl\, President\, AgriVisions\, LLC<br />\n&quot\;Ten Golden Rules of Ag Management&quot\;<br />\n<br />\n<strong>10:00 - 10:45</strong><br />\nAl Dutcher\, Nebraska State Climatologist\, UNL School of Natural Resources<br />\n&quot\;2011 Weather Outlook&quot\;<br />\n<br />\n<strong>11:00 - 11:45</strong><br />\nDr. Daniel O&#39\;Brien\, KSU Extension Grain Marketing Specialist<br />\n&quot\;2011 Grain Market Outlook&quot\;<br />\nOR<br />\nRick Pfortmiller\, Igenity<br />\n&quot\;DNA - The New Frontier in the Beef Business&quot\;<br />\n<br />\n<strong>Noon - 1:30 </strong><br />\nKeynote Speaker:&nbsp\; Dr. David Kohl\, AgriVisions\, LLC<br />\n&quot\;Mega Trends of Agriculture in the Age of Turbulence&quot\;<br />\n<br />\n<br />\nsponsored by:&nbsp\; Beatrice Area Chamber of Commerce with assistance from MONSANTO imagine &amp\; Nebraska Pork Producers Association<br />\n<br />\n<br />\n<em>AgriVisions\, LLC is a knowledge based consulting business providing cutting-edge programs to leading agricultural organizations world-wide.</em><span style="font-family: arial">&nbsp\; </span></span>
LOCATION:Southeast Community College Truman Center
UID:e.41.2714
SEQUENCE:3
DTSTAMP:20260425T004053Z
URL:https://business.beatricechamber.com/events/details/2011-ag-management-expo-of-se-nebraska-01-26-2011-2714
END:VEVENT

END:VCALENDAR
