BEGIN:VCALENDAR
VERSION:2.0
PRODID:-//ChamberMaster//Event Calendar 2.0//EN
METHOD:PUBLISH
X-PUBLISHED-TTL:P3D
REFRESH-INTERVAL:P3D
CALSCALE:GREGORIAN
BEGIN:VEVENT
DTSTART;VALUE=DATE:20110429
DTEND;VALUE=DATE:20110501
TRANSP:TRANSPARENT
X-MICROSOFT-CDO-ALLDAYEVENT:TRUE
SUMMARY:2011 Gage County Relay for Life
DESCRIPTION:
X-ALT-DESC;FMTTYPE=text/html:
LOCATION:Gage County Fair Grounds- Beatrice\, Nebraska
UID:e.41.3287
SEQUENCE:3
DTSTAMP:20260424T200702Z
URL:https://business.beatricechamber.com/events/details/2011-gage-county-relay-for-life-04-29-2011-3287
END:VEVENT

END:VCALENDAR
