BEGIN:VCALENDAR
VERSION:2.0
PRODID:-//ChamberMaster//Event Calendar 2.0//EN
METHOD:PUBLISH
X-PUBLISHED-TTL:P3D
REFRESH-INTERVAL:P3D
CALSCALE:GREGORIAN
BEGIN:VEVENT
DTSTART:20110605T180000Z
DTEND:20110605T220000Z
X-MICROSOFT-CDO-ALLDAYEVENT:FALSE
SUMMARY:2011 Omaha Kidney Walk
DESCRIPTION:The omaha Kidney Walk is a two-mile\, non-competitive walk to raise awareness of kidney disease and organ transplantation. Please join us for raffle prizes\, kid's activities\, food\, and prizes for various levels of donations.\n\n	 \n\n	To see a prize listing\, register\, recruit a team\, donate\, or to create a personalized web page which can be emailed to friends and placed on Facebook: \n\n	http://www.firstgiving.com/NebraskaKidneyAssociation\n\n	\n\n	Nebraska Kidney Association\n\n	Phone:    402-932-7200\n\n	Fax:        402-933-0067\n\n	Contact:  Sherri Petersen\, Development Director\n\n	Email:     develop@kidneyne.org
X-ALT-DESC;FMTTYPE=text/html:<p class="MsoNormal" style="margin: 0in 0in 0pt">\n	<font color="#000000" face="Times New Roman" size="3">The <st1:place w:st="on"><st1:city w:st="on">omaha</st1:city></st1:place> Kidney Walk is a two-mile\, non-competitive walk to raise awareness of kidney disease and organ transplantation. Please join us for raffle prizes\, kid&#39\;s activities\, food\, and prizes for various levels of donations.</font></p>\n<p class="MsoNormal" style="margin: 0in 0in 0pt">\n	<o:p><font color="#000000" face="Times New Roman" size="3">&nbsp\;</font></o:p></p>\n<p class="MsoNormal" style="margin: 0in 0in 0pt">\n	<font color="#000000" face="Times New Roman" size="3">To see a prize listing\, register\, recruit a team\, donate\, or to create a personalized web page which can be emailed to friends and placed on Facebook:</font><o:p><font color="#000000" face="Times New Roman" size="3">&nbsp\;</font></o:p></p>\n<p class="MsoNormal" style="margin: 0in 0in 0pt">\n	<font color="#000000" face="Times New Roman" size="3">http://www.firstgiving.com/NebraskaKidneyAssociation<br />\n	<font size="3"><font color="#000000"><font face="Times New Roman"><st1:state w:st="on"><st1:place w:st="on"><br />\n	Nebraska</st1:place></st1:state> Kidney Association</font></font></font></font></p>\n<p class="MsoNormal" style="margin: 0in 0in 0pt">\n	<font color="#000000" face="Times New Roman" size="3"><font color="#000000" face="Times New Roman" size="3">Phone:<span style="mso-spacerun: yes">&nbsp\;&nbsp\;&nbsp\; </span>402-932-7200</font></font></p>\n<p class="MsoNormal" style="margin: 0in 0in 0pt">\n	<font color="#000000" face="Times New Roman" size="3"><font color="#000000" face="Times New Roman" size="3">Fax:<span style="mso-spacerun: yes">&nbsp\;&nbsp\;&nbsp\;&nbsp\;&nbsp\;&nbsp\;&nbsp\; </span>402-933-0067</font></font></p>\n<p class="MsoNormal" style="margin: 0in 0in 0pt">\n	<font color="#000000" face="Times New Roman" size="3"><font color="#000000" face="Times New Roman" size="3">Contact:<span style="mso-spacerun: yes">&nbsp\; </span>Sherri Petersen\, Development Director</font></font></p>\n<p class="MsoNormal" style="margin: 0in 0in 0pt">\n	<font color="#000000" face="Times New Roman" size="3"><font color="#000000" face="Times New Roman" size="3">Email:<span style="mso-spacerun: yes">&nbsp\;&nbsp\;&nbsp\;&nbsp\; </span>develop@kidneyne.org</font></font></p>\n
LOCATION:Towl Park (93rd. & Center) Omaha
UID:e.41.4843
SEQUENCE:3
DTSTAMP:20260424T165439Z
URL:https://business.beatricechamber.com/events/details/2011-omaha-kidney-walk-06-05-2011-4843
END:VEVENT

END:VCALENDAR
