BEGIN:VCALENDAR
VERSION:2.0
PRODID:-//ChamberMaster//Event Calendar 2.0//EN
METHOD:PUBLISH
X-PUBLISHED-TTL:P3D
REFRESH-INTERVAL:P3D
CALSCALE:GREGORIAN
BEGIN:VEVENT
DTSTART:20110130T190000Z
DTEND:20110130T220000Z
X-MICROSOFT-CDO-ALLDAYEVENT:FALSE
SUMMARY:2011 Sunland Area Bridal Fair
DESCRIPTION:2011 Sunland Bridal Fair:\n\n\n\nWhen: Sunday\, Jan. 30th\, 2011\, 1 - 4 pm\n\n\n\nWhere: Holiday Inn Express in Beatrice\n\n\n\nRESERVE YOUR BOOTH TODAY!\n\n\n\nCall 223-5233 or email:\n\ntseible@beatricedailysun.com\n\nfor more information\n\n\n\nHosted by Beatrice Daily Sun & Holiday Inn Express & Suites
X-ALT-DESC;FMTTYPE=text/html:<strong><span style="font-size: 14px">2011 Sunland Bridal Fair:</span><br />\n<br />\nWhen: </strong>Sunday\, Jan. 30th\, 2011\, 1 - 4 pm<br />\n<br />\n<strong>Where: </strong>Holiday Inn Express in Beatrice<br />\n<br />\n<strong>RESERVE YOUR BOOTH TODAY!</strong><br />\n<br />\nCall 223-5233 or email:<br />\ntseible@beatricedailysun.com<br />\nfor more information<br />\n<br />\nHosted by Beatrice Daily Sun &amp\; Holiday Inn Express &amp\; Suites<br />\n
LOCATION:
UID:e.41.2872
SEQUENCE:3
DTSTAMP:20260425T003727Z
URL:https://business.beatricechamber.com/events/details/2011-sunland-area-bridal-fair-01-30-2011-2872
END:VEVENT

END:VCALENDAR
