BEGIN:VCALENDAR
VERSION:2.0
PRODID:-//ChamberMaster//Event Calendar 2.0//EN
METHOD:PUBLISH
X-PUBLISHED-TTL:P3D
REFRESH-INTERVAL:P3D
CALSCALE:GREGORIAN
BEGIN:VEVENT
DTSTART;VALUE=DATE:20110618
DTEND;VALUE=DATE:20110619
TRANSP:TRANSPARENT
X-MICROSOFT-CDO-ALLDAYEVENT:TRUE
SUMMARY:28th Annual Homestead Days Noon-Kiwanis Parade
DESCRIPTION:Starts at 9 a.m.\, 13th to 3rd streets on Court Street\, Beatrice.
X-ALT-DESC;FMTTYPE=text/html:Starts at 9 a.m.\, 13th to&nbsp\;3rd streets on Court Street\, Beatrice.
LOCATION:
UID:e.41.4898
SEQUENCE:3
DTSTAMP:20260424T165726Z
URL:https://business.beatricechamber.com/events/details/28th-annual-homestead-days-noon-kiwanis-parade-06-18-2011-4898
END:VEVENT

END:VCALENDAR
