BEGIN:VCALENDAR
VERSION:2.0
PRODID:-//ChamberMaster//Event Calendar 2.0//EN
METHOD:PUBLISH
X-PUBLISHED-TTL:P3D
REFRESH-INTERVAL:P3D
CALSCALE:GREGORIAN
BEGIN:VEVENT
DTSTART;VALUE=DATE:20110814
DTEND;VALUE=DATE:20110815
TRANSP:TRANSPARENT
X-MICROSOFT-CDO-ALLDAYEVENT:TRUE
SUMMARY:29th Annual Deer Creek Sodbusters Antique Machinery Show
DESCRIPTION:Nebraska Chapter 6 of the Antique Caterpillar Machinery Owners Club at the 29th Annual Deer Creek Sodbusters Antique Machinery Show and Plowing Bee.  Flag-raising ceremony at 8 a.m.\, followed by church service on the Deer Creek Sodbusters show grounds\, four and one-half miles south of Sterling.  Featured tractor:  "all brands of crawler tractors."  Field demonstrations.  Antique tractor and machinery displays and demonstrations\; saw mill\, blacksmithing\, draft horses\, hit and miss gas engines\, antique cars and trucks\; museum.\n\n\n\nFor more information\, visit www.deercreeksodbusters.org
X-ALT-DESC;FMTTYPE=text/html:Nebraska Chapter 6 of the Antique Caterpillar Machinery Owners Club at the 29th Annual Deer Creek Sodbusters Antique Machinery Show and Plowing Bee.&nbsp\; Flag-raising ceremony at 8 a.m.\, followed by church service on the Deer Creek Sodbusters show grounds\, four and one-half miles south of Sterling.&nbsp\; Featured tractor:&nbsp\; &quot\;all brands of crawler tractors.&quot\;&nbsp\; Field demonstrations.&nbsp\; Antique tractor and machinery displays and demonstrations\; saw mill\, blacksmithing\, draft horses\, hit and miss gas engines\, antique cars and trucks\; museum.<br />\n<br />\nFor more information\, visit <a href="http://www.deercreeksodbusters.org">www.deercreeksodbusters.org</a>
LOCATION:
UID:e.41.5035
SEQUENCE:3
DTSTAMP:20260424T140124Z
URL:https://business.beatricechamber.com/events/details/29th-annual-deer-creek-sodbusters-antique-machinery-show-08-14-2011-5035
END:VEVENT

END:VCALENDAR
