BEGIN:VCALENDAR
VERSION:2.0
PRODID:-//ChamberMaster//Event Calendar 2.0//EN
METHOD:PUBLISH
X-PUBLISHED-TTL:P3D
REFRESH-INTERVAL:P3D
CALSCALE:GREGORIAN
BEGIN:VEVENT
DTSTART;VALUE=DATE:20110818
DTEND;VALUE=DATE:20110819
TRANSP:TRANSPARENT
X-MICROSOFT-CDO-ALLDAYEVENT:TRUE
SUMMARY:2nd Annual Benefit for Our Troops
DESCRIPTION:7:30 p.m.  Homestead Harmonizers\, Chautauqua Park Tabernacle\, Beatrice.  Free will donation.  Catering by The Rail $5 per plate.  Amish Ice Cream by Scoops.  Proceeds used for care packages.
X-ALT-DESC;FMTTYPE=text/html:<p>\n	7:30 p.m.&nbsp\; Homestead Harmonizers\, Chautauqua Park Tabernacle\, Beatrice.&nbsp\; Free will donation.&nbsp\; Catering by The Rail $5 per plate.&nbsp\; Amish Ice Cream by Scoops.&nbsp\; Proceeds used for care packages.</p>\n
LOCATION:
UID:e.41.5023
SEQUENCE:3
DTSTAMP:20260424T134547Z
URL:https://business.beatricechamber.com/events/details/2nd-annual-benefit-for-our-troops-08-18-2011-5023
END:VEVENT

END:VCALENDAR
