BEGIN:VCALENDAR
VERSION:2.0
PRODID:-//ChamberMaster//Event Calendar 2.0//EN
METHOD:PUBLISH
X-PUBLISHED-TTL:P3D
REFRESH-INTERVAL:P3D
CALSCALE:GREGORIAN
BEGIN:VEVENT
DTSTART;VALUE=DATE:20110819
DTEND;VALUE=DATE:20110820
TRANSP:TRANSPARENT
X-MICROSOFT-CDO-ALLDAYEVENT:TRUE
SUMMARY:2nd Annual Benefit for Our Troops
DESCRIPTION:7 p.m.-12:45 a.m. at Gibb's Place\, 1101 S. 6th St.\, Beatrice.  Bands: K-Dub\, Glass Onion\, K-9 Suite\, and One Night Stand.  $5 Cover.  Proceeds used for care packages.
X-ALT-DESC;FMTTYPE=text/html:<p>\n	7 p.m.-12:45 a.m. at Gibb&#39\;s Place\, 1101 S. 6th St.\, Beatrice.&nbsp\; Bands: K-Dub\, Glass Onion\, K-9 Suite\, and One Night Stand.&nbsp\; $5 Cover.&nbsp\; Proceeds used for care packages.</p>\n
LOCATION:
UID:e.41.5028
SEQUENCE:3
DTSTAMP:20260424T134547Z
URL:https://business.beatricechamber.com/events/details/2nd-annual-benefit-for-our-troops-08-19-2011-5028
END:VEVENT

END:VCALENDAR
