BEGIN:VCALENDAR
VERSION:2.0
PRODID:-//ChamberMaster//Event Calendar 2.0//EN
METHOD:PUBLISH
X-PUBLISHED-TTL:P3D
REFRESH-INTERVAL:P3D
CALSCALE:GREGORIAN
BEGIN:VEVENT
DTSTART;VALUE=DATE:20110820
DTEND;VALUE=DATE:20110821
TRANSP:TRANSPARENT
X-MICROSOFT-CDO-ALLDAYEVENT:TRUE
SUMMARY:2nd Annual Benefit for Our Troops
DESCRIPTION:Events at Chautauqua Park throughout the day.  9 a.m. vendors\, booths\, food and children's rides\; Patriot Project\, Inc. with Army - Navy - Air Force - Marines - Coast Guard\; 9 a.m.-5 p.m. Car and bike cruise (no trophies)\; 11 a.m. I Care Poker Run $10 per hand or $15 for 2\; 1 p.m. Horseshoe Tournament with $10 entry fee\; 5:30 p.m. Military Tribute Offutt Air Force Base Color Guard at Veteran's Memorial Park\; 2 p.m.-12:45 a.m. Gibb's Place\, 1101 S. 6th St.  Bands: K-Dub\, Dethmask\, Miss Misery\, Fizz\, Captain Obvious\, and Decker for $10 cover charge.  Proceeds used for care packages.
X-ALT-DESC;FMTTYPE=text/html:Events at Chautauqua Park throughout the day.&nbsp\; 9 a.m. vendors\, booths\, food and children&#39\;s rides\; Patriot Project\, Inc. with Army - Navy - Air Force - Marines - Coast Guard\; 9 a.m.-5 p.m. Car and bike cruise (no trophies)\; 11 a.m. I Care Poker Run $10 per hand or $15 for 2\; 1 p.m. Horseshoe Tournament with $10 entry fee\; 5:30 p.m. Military Tribute Offutt Air Force Base Color Guard at Veteran&#39\;s Memorial Park\; 2 p.m.-12:45 a.m. Gibb&#39\;s Place\, 1101 S. 6th St.&nbsp\; Bands: K-Dub\, Dethmask\, Miss Misery\, Fizz\, Captain Obvious\, and Decker for $10 cover charge.&nbsp\; Proceeds used for care packages.
LOCATION:
UID:e.41.5029
SEQUENCE:3
DTSTAMP:20260424T134636Z
URL:https://business.beatricechamber.com/events/details/2nd-annual-benefit-for-our-troops-08-20-2011-5029
END:VEVENT

END:VCALENDAR
