BEGIN:VCALENDAR
VERSION:2.0
PRODID:-//ChamberMaster//Event Calendar 2.0//EN
METHOD:PUBLISH
X-PUBLISHED-TTL:P3D
REFRESH-INTERVAL:P3D
CALSCALE:GREGORIAN
BEGIN:VEVENT
DTSTART;VALUE=DATE:20101107
DTEND;VALUE=DATE:20101108
TRANSP:TRANSPARENT
X-MICROSOFT-CDO-ALLDAYEVENT:TRUE
SUMMARY:2nd Annual Holiday Showcase
DESCRIPTION:2nd Annual Holiday Showcase\n\n\n\nSunday\, Nov.7\n\n12-5pm\n\n\n\nOver 20 unique Vendors to Shop With\n\n\n\nDoor prizes! $200 Cash Drawing!\n\n\n\nHoliday Inn Express Conference Room\n\n4005 N. 6th St.\n\nBeatriice\, NE
X-ALT-DESC;FMTTYPE=text/html:<strong><span style="font-size: 14px">2nd Annual Holiday Showcase</span></strong><br />\n<br />\nSunday\, Nov.7<br />\n12-5pm<br />\n<br />\nOver 20 unique Vendors to Shop With<br />\n<br />\nDoor prizes! $200 Cash Drawing!<br />\n<br />\nHoliday Inn Express Conference Room<br />\n4005 N. 6th St.<br />\nBeatriice\, NE<br />\n<br />\n&nbsp\;<br />\n<br />\n&nbsp\;<br />\n
LOCATION:
UID:e.41.2760
SEQUENCE:3
DTSTAMP:20260425T032638Z
URL:https://business.beatricechamber.com/events/details/2nd-annual-holiday-showcase-11-07-2010-2760
END:VEVENT

END:VCALENDAR
