BEGIN:VCALENDAR
VERSION:2.0
PRODID:-//ChamberMaster//Event Calendar 2.0//EN
METHOD:PUBLISH
X-PUBLISHED-TTL:P3D
REFRESH-INTERVAL:P3D
CALSCALE:GREGORIAN
BEGIN:VEVENT
DTSTART:20110213T003000Z
DTEND:20110213T023000Z
X-MICROSOFT-CDO-ALLDAYEVENT:FALSE
SUMMARY:2nd Annual Sweetheart Gala
DESCRIPTION:2nd Annual Sweetheart Gala:\n\n\n\n\n\n6:30pm- Social & Silent Auction\n\n\n\n7:30pm- Meal\n\nBaked Crusted Chicken\, Potato\, Green Beans\, Salad\, Roll & Dessert\n\n\n\n8:30pm- Live Auction\n\nClassic's- 1301 Oak\, Beatrice\n\nTo purchase tickets or make a donation call St. Joseph Catholic School- (402) 223-5033
X-ALT-DESC;FMTTYPE=text/html:<strong><span style="font-size: 14px\;">2nd Annual Sweetheart Gala:</span></strong><br />\n<br />\n<br />\n6:30pm- Social &amp\; Silent Auction<br />\n<br />\n7:30pm- Meal<br />\nBaked Crusted Chicken\, Potato\, Green Beans\, Salad\, Roll &amp\; Dessert<br />\n<br />\n8:30pm- Live Auction<br />\nClassic&#39\;s- 1301 Oak\, Beatrice<br />\nTo purchase tickets or make a donation call St. Joseph Catholic School- (402) 223-5033<br />\n<br />\n
LOCATION:
UID:e.41.2885
SEQUENCE:3
DTSTAMP:20260424T225743Z
URL:https://business.beatricechamber.com/events/details/2nd-annual-sweetheart-gala-02-12-2011-2885
END:VEVENT

END:VCALENDAR
