BEGIN:VCALENDAR
VERSION:2.0
PRODID:-//ChamberMaster//Event Calendar 2.0//EN
METHOD:PUBLISH
X-PUBLISHED-TTL:P3D
REFRESH-INTERVAL:P3D
CALSCALE:GREGORIAN
BEGIN:VEVENT
DTSTART;VALUE=DATE:20101204
DTEND;VALUE=DATE:20101205
TRANSP:TRANSPARENT
X-MICROSOFT-CDO-ALLDAYEVENT:TRUE
SUMMARY:2nd Annual Toy Drive
DESCRIPTION:Defiant Few MC: 2nd Annual Toy Drive\n\n\n\n2nd Annual Toy Drive in conjunction with Blue Springs Fire Department\n\n\n\nTo help area underprivileged kids\n\n\n\nCollection Points: Kabo- Beatrice\n\nCenex- Beatrice\n\nWymore Express- Wymore\n\nLutheran Tape Ministry- Blue Springs\n\n\n\nFinal Rally Day: December 18th\, 2010\n\nBeatrice Cenex Noon until Sundown\n\nAppreciation Party at Kabo 7:00pm until Close\n\n                December 18\, 2010\n\n\n\nBring donations for drink specials and food!\n\nDonations Must be New\, Unused toys!
X-ALT-DESC;FMTTYPE=text/html:<strong><span style="font-size: 14px\;">Defiant Few MC: 2nd Annual Toy Drive</span><br />\n<br />\n2nd Annual Toy Drive in conjunction with Blue Springs Fire Department<br />\n<br />\nTo help area underprivileged kids<br />\n<br />\nCollection Points: Kabo- Beatrice<br />\nCenex- Beatrice<br />\nWymore Express- Wymore<br />\nLutheran Tape Ministry- Blue Springs<br />\n<br />\nFinal Rally Day: December 18th\, 2010<br />\nBeatrice Cenex Noon until Sundown<br />\nAppreciation Party at Kabo 7:00pm until Close<br />\n&nbsp\;&nbsp\;&nbsp\;&nbsp\;&nbsp\;&nbsp\;&nbsp\;&nbsp\;&nbsp\;&nbsp\;&nbsp\;&nbsp\;&nbsp\;&nbsp\;&nbsp\; December 18\, 2010<br />\n<br />\nBring donations for drink specials and food!<br />\nDonations Must be New\, Unused toys!</strong><br />\n
LOCATION:
UID:e.41.2846
SEQUENCE:3
DTSTAMP:20260425T014206Z
URL:https://business.beatricechamber.com/events/details/2nd-annual-toy-drive-12-04-2010-2846
END:VEVENT

END:VCALENDAR
