BEGIN:VCALENDAR
VERSION:2.0
PRODID:-//ChamberMaster//Event Calendar 2.0//EN
METHOD:PUBLISH
X-PUBLISHED-TTL:P3D
REFRESH-INTERVAL:P3D
CALSCALE:GREGORIAN
BEGIN:VEVENT
DTSTART;VALUE=DATE:20110806
DTEND;VALUE=DATE:20110807
TRANSP:TRANSPARENT
X-MICROSOFT-CDO-ALLDAYEVENT:TRUE
SUMMARY:30th Annual American Cancer Society Golf Tournament
DESCRIPTION:Beatrice Country Club.  18-hole\, 4-person scramble.  Registration begins at 8 a.m.\; shotgun start at 9 a.m.  Entry fee:  $65 per person (includes lunch\, green fees\, mulligans\, prizes\, and donation to ACS). \n\n\n\nTo register\, call 402-223-2710 or Cheryl Wirth at 402-228-1587 or 402-228-2707.
X-ALT-DESC;FMTTYPE=text/html:Beatrice Country Club.&nbsp\; 18-hole\, 4-person scramble.&nbsp\; Registration begins at 8 a.m.\; shotgun start at 9 a.m.&nbsp\; Entry fee:&nbsp\; $65 per person (includes lunch\, green fees\, mulligans\, prizes\, and donation to ACS).&nbsp\;<br />\n<br />\nTo register\, call 402-223-2710 or Cheryl Wirth at 402-228-1587 or 402-228-2707.
LOCATION:
UID:e.41.5021
SEQUENCE:3
DTSTAMP:20260424T141018Z
URL:https://business.beatricechamber.com/events/details/30th-annual-american-cancer-society-golf-tournament-08-06-2011-5021
END:VEVENT

END:VCALENDAR
