BEGIN:VCALENDAR
VERSION:2.0
PRODID:-//ChamberMaster//Event Calendar 2.0//EN
METHOD:PUBLISH
X-PUBLISHED-TTL:P3D
REFRESH-INTERVAL:P3D
CALSCALE:GREGORIAN
BEGIN:VEVENT
DTSTART:20101129T010000Z
DTEND:20101129T010000Z
X-MICROSOFT-CDO-ALLDAYEVENT:FALSE
SUMMARY:32nd annual Evening of Music
DESCRIPTION:32nd annual Evening of Music:\n\n\n\nThe 32nd annual Evening of Music will be held Sunday\, Nov. 28\, at the Presbyterian Church in Pawnee City beginning at 7 p.m. with a half hour concert by the Southeast Nebraska Community Band. Following the band will be solos and small groups by musicians from the area who will sharee their talents in inspirational music.\n\n\n\nThere is a varied program planned by musicians of every age. among those performing will be a family group of Russell Workman \, Karen Workman Milstead\, Heather Workman Farwell\, and Alex and Jet Farwell. Soloists are Dr. David Edris\; trumpet\, Susan Spitser\; organ\, Stephen Grizzle\; vocal\, Rosanna Rinne\; violin with Chad Rinne on piano.  Coordinator for the program is Laura Turnbull. This year's event is hosted by the Christian Church. A social hor will follow the concert.
X-ALT-DESC;FMTTYPE=text/html:<strong>32nd annual Evening of Music:<br />\n<br />\nThe 32nd annual Evening of Music will be held Sunday\, Nov. 28\, at the Presbyterian Church in Pawnee City beginning at 7 p.m. with a half hour concert by the Southeast Nebraska Community Band. Following the band will be solos and small groups by musicians from the area who will sharee their talents in inspirational music.<br />\n<br />\nThere is a varied program planned by musicians of every age. among those performing will be a family group of Russell Workman \, Karen Workman Milstead\, Heather Workman Farwell\, and Alex and Jet Farwell. Soloists are Dr. David Edris\; trumpet\, Susan Spitser\; organ\, Stephen Grizzle\; vocal\, Rosanna Rinne\; violin with Chad Rinne on piano.&nbsp\; Coordinator for the program is Laura Turnbull. This year&#39\;s event is hosted by the Christian Church. A social hor will follow the concert.</strong><br />\n
LOCATION:
UID:e.41.2849
SEQUENCE:3
DTSTAMP:20260425T032931Z
URL:https://business.beatricechamber.com/events/details/32nd-annual-evening-of-music-11-28-2010-2849
END:VEVENT

END:VCALENDAR
