BEGIN:VCALENDAR
VERSION:2.0
PRODID:-//ChamberMaster//Event Calendar 2.0//EN
METHOD:PUBLISH
X-PUBLISHED-TTL:P3D
REFRESH-INTERVAL:P3D
CALSCALE:GREGORIAN
BEGIN:VEVENT
DTSTART:20110505T230000Z
DTEND:20110506T010000Z
X-MICROSOFT-CDO-ALLDAYEVENT:FALSE
SUMMARY:3rd Annual Night of Pampering with a Purpose
DESCRIPTION:Let Yourself Relax? Rejuvenate? Indulge?  With a Night of Massage~Detox Foot Bath~Makeup Tips~Purses~Facials~Jewelry~Fitness~Spinal Health Checks~Refreshments~And much\, much more?\n\nTake some time to indulge and join Beatrice Family Chiropractic for A Night of Pampering.  For only $5.00\, you will receive treatment\, tips\, and all the tools you need for a relaxing\, rejuvenating evening from some of the area?s premier product and service providers.\n\nScheduled to take place on Thursday May 5th from 6-8 pm\, all proceeds are earmarked to benefit Mother to Mother Ministry\, an organization that provides support and encouragement to area mothers and their children.  And if you are one of the first 50 attendees to arrive for A Night of Pampering\, you will be provided with a gift bag filled with items supplied by those in the community who know what pampering is all about.  In addition\, each attendee present for A Night of Pampering will also be entered into a drawing for a grand prize.
X-ALT-DESC;FMTTYPE=text/html:Let Yourself Relax? Rejuvenate? Indulge?  With a Night of Massage~Detox Foot Bath~Makeup Tips~Purses~Facials~Jewelry~Fitness~Spinal Health Checks~Refreshments~And much\, much more?\n<br>Take some time to indulge and join Beatrice Family Chiropractic for A Night of Pampering.  For only $5.00\, you will receive treatment\, tips\, and all the tools you need for a relaxing\, rejuvenating evening from some of the area?s premier product and service providers.\n<br>Scheduled to take place on Thursday May 5th from 6-8 pm\, all proceeds are earmarked to benefit Mother to Mother Ministry\, an organization that provides support and encouragement to area mothers and their children.  And if you are one of the first 50 attendees to arrive for A Night of Pampering\, you will be provided with a gift bag filled with items supplied by those in the community who know what pampering is all about.  In addition\, each attendee present for A Night of Pampering will also be entered into a drawing for a grand prize.\n<br>
LOCATION:Beatrice Family Chiropractic 2526 E. Court St. Beatrice\, NE 68310
UID:e.41.3290
SEQUENCE:3
DTSTAMP:20260424T183202Z
URL:https://business.beatricechamber.com/events/details/3rd-annual-night-of-pampering-with-a-purpose-05-05-2011-3290
END:VEVENT

END:VCALENDAR
