BEGIN:VCALENDAR
VERSION:2.0
PRODID:-//ChamberMaster//Event Calendar 2.0//EN
METHOD:PUBLISH
X-PUBLISHED-TTL:P3D
REFRESH-INTERVAL:P3D
CALSCALE:GREGORIAN
BEGIN:VEVENT
DTSTART;VALUE=DATE:20120512
DTEND;VALUE=DATE:20120513
TRANSP:TRANSPARENT
X-MICROSOFT-CDO-ALLDAYEVENT:TRUE
SUMMARY:3rd annual "Take Steps" walk
DESCRIPTION:Crohn's & Colitis Foundation of America\, CCFA\, will be sponsoring their 3rd annual "Take Steps" walk to be held at 5:00 p.m. on Saturday\, May 12th at Holmes Lake Park\, Lincoln\, NE.  Registrations are being accepted now!  Anyone in the Beatrice area wishing to join our team may sign up with Jon's Intestinal Army at www.cctakesteps.org\, or call Julie Schleufer\, Co-Chair for the event\, at 402-223-8104 (her business cell).  Jon's Intestinal Army has donated over $10\,000 in three years to the CCFA fund.  Donations provide seminars and education for individuals with these diseases and also goes towards research to find a cure.
X-ALT-DESC;FMTTYPE=text/html:Crohn&rsquo\;s &amp\; Colitis Foundation of America\, CCFA\, will be sponsoring their 3rd&nbsp\;annual &ldquo\;Take Steps&rdquo\; walk to be held at 5:00 p.m. on Saturday\, May 12th at Holmes Lake Park\, Lincoln\, NE.&nbsp\; Registrations are being accepted now!&nbsp\; Anyone in the Beatrice area wishing to join our team may sign up with Jon&#39\;s Intestinal Army at <span style="font-family:calibri\,sans-serif\;"><a href="http://www.cctakesteps.org">www.cctakesteps.org</a></span><span style="font-family:calibri\,sans-serif\;">\, or call Julie Schleufer\, Co-Chair for the event\, at 402-223-8104 (her business cell).&nbsp\; Jon&#39\;s Intestinal Army has donated over $10\,000 in three years to the CCFA fund.&nbsp\; Donations provide seminars and education for individuals with these diseases and also goes towards research to find a cure.&nbsp\;</span>
LOCATION:
UID:e.41.5487
SEQUENCE:3
DTSTAMP:20260422T142125Z
URL:https://business.beatricechamber.com/events/details/3rd-annual-take-steps-walk-05-12-2012-5487
END:VEVENT

END:VCALENDAR
