BEGIN:VCALENDAR
VERSION:2.0
PRODID:-//ChamberMaster//Event Calendar 2.0//EN
METHOD:PUBLISH
X-PUBLISHED-TTL:P3D
REFRESH-INTERVAL:P3D
CALSCALE:GREGORIAN
BEGIN:VEVENT
DTSTART:20091025T160000Z
DTEND:20091025T190000Z
X-MICROSOFT-CDO-ALLDAYEVENT:FALSE
SUMMARY:4-H Open House & Potato Bar
DESCRIPTION:Gage County 4-H is hosting a new event for youth and families across Gage CountySunday\, October 25th at the 4-H building on the Gage County Fairgrounds in Beatrice The public is invited to enjoy the baked potato bar from 11 am to 2 pmFree Will donation will be accepted with proceeds going to support the Gage County 4-H horse judging team.  A 4-H open house will take place from 11 am - 2 pm For more information contact UNL Extension in Gage County at 223-1384 oremail jesau2@unl.edu
X-ALT-DESC;FMTTYPE=text/html:<div>Gage County 4-H is hosting a new event for youth and families across Gage County</div><div>Sunday\,&nbsp\;October 25th at the 4-H building on the Gage County Fairgrounds in Beatrice</div><div>&nbsp\;</div><div>The public is invited to enjoy the baked potato bar from 11 am to 2 pm</div><div>Free Will donation will be accepted with proceeds going to support the Gage County 4-H horse judging team.&nbsp\;</div><div>&nbsp\;</div><div>A 4-H open house will take place from 11 am - 2 pm</div><div>&nbsp\;</div><div>For more information contact UNL Extension in Gage County at 223-1384 or</div><div>email jesau2@unl.edu</div>
LOCATION:
UID:e.41.1495
SEQUENCE:3
DTSTAMP:20260425T222115Z
URL:https://business.beatricechamber.com/events/details/4-h-open-house-potato-bar-10-25-2009-1495
END:VEVENT

END:VCALENDAR
