BEGIN:VCALENDAR
VERSION:2.0
PRODID:-//ChamberMaster//Event Calendar 2.0//EN
METHOD:PUBLISH
X-PUBLISHED-TTL:P3D
REFRESH-INTERVAL:P3D
CALSCALE:GREGORIAN
BEGIN:VEVENT
DTSTART:20120909T140000Z
DTEND:20120909T140000Z
X-MICROSOFT-CDO-ALLDAYEVENT:FALSE
SUMMARY:40th Annual Golf Tournament
DESCRIPTION:The Beatrice American Legion\, Bitting Norman Post 27 is hosting the 40th Annual Golf Tournament. The two person scramble will be held at Hidden Acres Golf Course in Beatrice with a shot gun start at 9 a.m. The tournament is open to all veteran organization members and their guests.\n\n\n\nIncludes 18 holes of golf followed by a dinner and prizes at the American Legion.\n\nFor more information contact Don Vetrovsky 402-223-2282 or Ron Vetrovsky 402-223-2814.\n\n\n\nRegistration forms may be picked up at the American Legion.
X-ALT-DESC;FMTTYPE=text/html:The Beatrice American Legion\, Bitting Norman Post 27 is hosting the 40th Annual Golf Tournament. The two person scramble will be held at Hidden Acres Golf Course in Beatrice with a shot gun start at 9 a.m. The tournament is open to all veteran organization members and their guests.<br />\n<br />\nIncludes 18 holes of golf followed by a dinner and prizes at the American Legion.<br />\nFor more information contact Don Vetrovsky 402-223-2282 or Ron Vetrovsky 402-223-2814.<br />\n<br />\nRegistration forms may be picked up at the American Legion.
LOCATION:Hidden Acres Golf Course Beatrice\, NE Dinner and prizes @ American Legion 701 Dorsey St. Beatrice\, NE
UID:e.41.6630
SEQUENCE:3
DTSTAMP:20260422T090843Z
URL:https://business.beatricechamber.com/events/details/40th-annual-golf-tournament-09-09-2012-6630
END:VEVENT

END:VCALENDAR
