BEGIN:VCALENDAR
VERSION:2.0
PRODID:-//ChamberMaster//Event Calendar 2.0//EN
METHOD:PUBLISH
X-PUBLISHED-TTL:P3D
REFRESH-INTERVAL:P3D
CALSCALE:GREGORIAN
BEGIN:VEVENT
DTSTART;VALUE=DATE:20111016
DTEND;VALUE=DATE:20111017
TRANSP:TRANSPARENT
X-MICROSOFT-CDO-ALLDAYEVENT:TRUE
SUMMARY:429 Factory Fundraising Pancake Feed
DESCRIPTION:Fundraising Pancake Feed\n\n\n\nThe 429 Factory\n\n923 West Court\n\nBeatrice\n\n\n\nSunday\, October 16\n\n9 am - 1 pm\n\n\n\nKiwanis and the 429 Factory partnering for the fundraiser.  Adults: $6.50\, Kids 12 & Under $3.50.  Pay at the door.
X-ALT-DESC;FMTTYPE=text/html:Fundraising Pancake Feed<br />\n<br />\nThe 429 Factory<br />\n923 West Court<br />\nBeatrice<br />\n<br />\nSunday\, October 16<br />\n9 am - 1 pm<br />\n<br />\nKiwanis and the 429 Factory partnering for the fundraiser.&nbsp\; Adults: $6.50\, Kids 12&nbsp\;&amp\; Under $3.50.&nbsp\; Pay at the door.
LOCATION:
UID:e.41.5174
SEQUENCE:3
DTSTAMP:20260424T111544Z
URL:https://business.beatricechamber.com/events/details/429-factory-fundraising-pancake-feed-10-16-2011-5174
END:VEVENT

END:VCALENDAR
