BEGIN:VCALENDAR
VERSION:2.0
PRODID:-//ChamberMaster//Event Calendar 2.0//EN
METHOD:PUBLISH
X-PUBLISHED-TTL:P3D
REFRESH-INTERVAL:P3D
CALSCALE:GREGORIAN
BEGIN:VEVENT
DTSTART:20110618T130000Z
DTEND:20110619T010000Z
X-MICROSOFT-CDO-ALLDAYEVENT:FALSE
SUMMARY:43rd Annual Jayhusker Swap Meet
DESCRIPTION:43rd Annual Jayhusker Swap Meet\, 8 a.m.-8 p.m. at Chautauqua Park\, Beatrice.  Also antique tractor and farm equipment show. \n\n\n\nFood vendors at 11 a.m.- 6:00 p.m.\n\n\n\nFor more information call 402-223-2338.
X-ALT-DESC;FMTTYPE=text/html:43rd Annual Jayhusker Swap Meet\, 8 a.m.-8 p.m. at Chautauqua Park\, Beatrice.&nbsp\; Also antique tractor and farm equipment show.&nbsp\;<br />\n<br />\nFood vendors at 11 a.m.- 6:00 p.m.<br />\n<br />\nFor more information call 402-223-2338.
LOCATION:
UID:e.41.4902
SEQUENCE:3
DTSTAMP:20260424T165636Z
URL:https://business.beatricechamber.com/events/details/43rd-annual-jayhusker-swap-meet-06-18-2011-4902
END:VEVENT

END:VCALENDAR
