BEGIN:VCALENDAR
VERSION:2.0
PRODID:-//ChamberMaster//Event Calendar 2.0//EN
METHOD:PUBLISH
X-PUBLISHED-TTL:P3D
REFRESH-INTERVAL:P3D
CALSCALE:GREGORIAN
BEGIN:VEVENT
DTSTART:20110619T130000Z
DTEND:20110619T220000Z
X-MICROSOFT-CDO-ALLDAYEVENT:FALSE
SUMMARY:43rd Annual Jayhusker Swap Meet and Flea Market
DESCRIPTION:8 a.m.-5 p.m.\, Chautauqua Park\, Beatrice.  Antique tractor and engine show.
X-ALT-DESC;FMTTYPE=text/html:8 a.m.-5 p.m.\, Chautauqua Park\, Beatrice.&nbsp\; Antique tractor and engine show.
LOCATION:
UID:e.41.4891
SEQUENCE:3
DTSTAMP:20260424T165849Z
URL:https://business.beatricechamber.com/events/details/43rd-annual-jayhusker-swap-meet-and-flea-market-06-19-2011-4891
END:VEVENT

END:VCALENDAR
