BEGIN:VCALENDAR
VERSION:2.0
PRODID:-//ChamberMaster//Event Calendar 2.0//EN
METHOD:PUBLISH
X-PUBLISHED-TTL:P3D
REFRESH-INTERVAL:P3D
CALSCALE:GREGORIAN
BEGIN:VEVENT
DTSTART:20111211T160000Z
DTEND:20111211T200000Z
X-MICROSOFT-CDO-ALLDAYEVENT:FALSE
SUMMARY:4H Inc Soup Extravaganza
DESCRIPTION:Come support 4H and beat the cold with our homemade soups\, desserts and plenty of warm drinks.\n\n	\n\n	Hog Raffle\n\n	Tickets: $1.00 each or 6 for $5.00\n\n	Do not need to be present to win\n\n	Winner recieves a processed hog donated by Schmidt Show Pigs\n\n	\n\n	Silent Auction\n\n	It's not too early to start your Christmas shopping!\n\n	\n\n	Christmas Dinner Shoot Off\n\n	Shoot for your chance to win your Christmas Dinner!
X-ALT-DESC;FMTTYPE=text/html:<p>\n	Come support 4H and beat the cold with our homemade soups\, desserts and plenty of warm drinks.<br />\n	<br />\n	Hog Raffle<br />\n	Tickets: $1.00 each or 6 for $5.00<br />\n	Do not need to be present to win<br />\n	Winner recieves a processed hog donated by Schmidt Show Pigs<br />\n	<br />\n	Silent Auction<br />\n	It&#39\;s not too early to start your Christmas shopping!<br />\n	<br />\n	Christmas Dinner Shoot Off<br />\n	Shoot for your chance to win your Christmas Dinner!</p>\n
LOCATION:4H Inc Building\, Gage County Fairgrounds
UID:e.41.5243
SEQUENCE:3
DTSTAMP:20260424T082924Z
URL:https://business.beatricechamber.com/events/details/4h-inc-soup-extravaganza-12-11-2011-5243
END:VEVENT

END:VCALENDAR
