BEGIN:VCALENDAR
VERSION:2.0
PRODID:-//ChamberMaster//Event Calendar 2.0//EN
METHOD:PUBLISH
X-PUBLISHED-TTL:P3D
REFRESH-INTERVAL:P3D
CALSCALE:GREGORIAN
BEGIN:VEVENT
DTSTART:20100128T160000Z
DTEND:20100128T220000Z
X-MICROSOFT-CDO-ALLDAYEVENT:FALSE
SUMMARY:4th Annual Ag Management Expo
DESCRIPTION:Free lunch for the first 200.\n\nAll Day Ag-related Business Booths.\n\nThe keynote address will be "A 30\,000-Foot View of Current Opportunities in Agriculture" by Moe Russell.\n\nOther featured topics include "Transition Strategies for Beginning Farmers"\, "2010 Weather Outlook"\, "Winds of Change - Prairie Wind Power: A Panel Discussion"\, "Combating High Input Costs in the Cow/Calf Enterprise"\, and "Managing Risk and Volatility in Today's Ag World".
X-ALT-DESC;FMTTYPE=text/html:Free lunch for the first 200.\n<br>All Day Ag-related Business Booths.\n<br>The keynote address will be "A 30\,000-Foot View of Current Opportunities in Agriculture" by Moe Russell.\n<br>Other featured topics include "Transition Strategies for Beginning Farmers"\, "2010 Weather Outlook"\, "Winds of Change - Prairie Wind Power: A Panel Discussion"\, "Combating High Input Costs in the Cow/Calf Enterprise"\, and "Managing Risk and Volatility in Today's Ag World".
LOCATION:SCC - Beatrice Campus Truman Center 4771 W Scott Rd
UID:e.41.1570
SEQUENCE:3
DTSTAMP:20260425T181339Z
URL:https://business.beatricechamber.com/events/details/4th-annual-ag-management-expo-01-28-2010-1570
END:VEVENT

END:VCALENDAR
