BEGIN:VCALENDAR
VERSION:2.0
PRODID:-//ChamberMaster//Event Calendar 2.0//EN
METHOD:PUBLISH
X-PUBLISHED-TTL:P3D
REFRESH-INTERVAL:P3D
CALSCALE:GREGORIAN
BEGIN:VEVENT
DTSTART:20120630T170000Z
DTEND:20120630T210000Z
X-MICROSOFT-CDO-ALLDAYEVENT:FALSE
SUMMARY:4th Annual Antique Printing Press Demonstration - DeWitt Museum
DESCRIPTION:In May 2008 Ron Miller of Miller Printery donated an antique printing press to the DeWitt Museum with the stipulation that he would demonstrate the operation of the press on special occasions. This year that demonstration will be held on Saturday June 30th. The DeWitt Museum will open at 10:00 AM with the first demonstration beginning at 12:00 noon. Free admission - open to the general public. Ron will be assisted this year by his younger brother Preston Miller. There will be explanations of the operations of the printing press along with stories of the history dating back to before the turn of the 20th Century. This particular printing press was in the Miller Family since 1939 when Miller Printery was first started by our grandfather Fred Miller. The business was closed in 2008 when Ron retired. Hope to see you all there.
X-ALT-DESC;FMTTYPE=text/html:In May 2008 Ron Miller of Miller Printery donated an antique printing press to the DeWitt Museum with the stipulation that he would demonstrate the operation of the press on special occasions. This year that demonstration will be held on Saturday June 30th. The DeWitt Museum will open at 10:00 AM with the first demonstration beginning at 12:00 noon. Free admission - open to the general public. Ron will be assisted this year by his younger brother Preston Miller. There will be explanations of the operations of the printing press along with stories of&nbsp\;the history dating back to before the turn of the 20th Century. This particular printing press was in the Miller Family since 1939 when Miller Printery was first started by our grandfather Fred Miller. The business was&nbsp\;closed in 2008 when Ron retired. Hope to see you all there.
LOCATION:DeWitt Museum in Downtown DeWitt\, NE
UID:e.41.5708
SEQUENCE:3
DTSTAMP:20260422T131310Z
URL:https://business.beatricechamber.com/events/details/4th-annual-antique-printing-press-demonstration-dewitt-museum-06-30-2012-5708
END:VEVENT

END:VCALENDAR
