BEGIN:VCALENDAR
VERSION:2.0
PRODID:-//ChamberMaster//Event Calendar 2.0//EN
METHOD:PUBLISH
X-PUBLISHED-TTL:P3D
REFRESH-INTERVAL:P3D
CALSCALE:GREGORIAN
BEGIN:VEVENT
DTSTART;VALUE=DATE:20120426
DTEND;VALUE=DATE:20120427
TRANSP:TRANSPARENT
X-MICROSOFT-CDO-ALLDAYEVENT:TRUE
SUMMARY:4th Annual Night Of Pampering with a Purpose
DESCRIPTION:Time: 5-8pm\n\n\n\nPlace: Beatrice Family Chiropractic\, 2526 E Court St.\, Beatrice\n\n\n\nAdmissions: $5 with all the proceeds to benefit Mother to Mother Ministry\n\n\n\nFor tickets\, stop by Beatrice Family Chiropractic or call 402-228-2777
X-ALT-DESC;FMTTYPE=text/html:Time:&nbsp\;5-8pm<br />\n<br />\nPlace:&nbsp\;Beatrice Family&nbsp\;Chiropractic\, 2526 E Court St.\,&nbsp\;Beatrice<br />\n<br />\nAdmissions: $5&nbsp\;with&nbsp\;all the proceeds to benefit Mother to Mother&nbsp\;Ministry<br />\n<br />\nFor tickets\, stop&nbsp\;by Beatrice Family Chiropractic or call&nbsp\;402-228-2777
LOCATION:
UID:e.41.5476
SEQUENCE:3
DTSTAMP:20260422T155056Z
URL:https://business.beatricechamber.com/events/details/4th-annual-night-of-pampering-with-a-purpose-04-26-2012-5476
END:VEVENT

END:VCALENDAR
