BEGIN:VCALENDAR
VERSION:2.0
PRODID:-//ChamberMaster//Event Calendar 2.0//EN
METHOD:PUBLISH
X-PUBLISHED-TTL:P3D
REFRESH-INTERVAL:P3D
CALSCALE:GREGORIAN
BEGIN:VEVENT
DTSTART;VALUE=DATE:20120704
DTEND;VALUE=DATE:20120705
TRANSP:TRANSPARENT
X-MICROSOFT-CDO-ALLDAYEVENT:TRUE
SUMMARY:4th of July Campfire Program
DESCRIPTION:Annual 4th of July Campfire Program\n\n\n\nWednesday\, July 4\n\n7 pm\n\n\n\nFree\, Family-Friendly Event\n\n\n\nHomestead National Monument of America's Education Center\n\n\n\nProgram by Homestead's historian Blake Bell\; Independence Day celebrations of 1862.  Musician John Bstandig with patriotic favorites.  402-223-3514\n\n\n\nwww.nps.gov/home
X-ALT-DESC;FMTTYPE=text/html:Annual 4th of July Campfire Program<br />\n<br />\nWednesday\, July 4<br />\n7 pm<br />\n<br />\nFree\, Family-Friendly Event<br />\n<br />\nHomestead National Monument of America&#39\;s Education Center<br />\n<br />\nProgram by Homestead&#39\;s historian Blake Bell\; Independence Day celebrations of 1862.&nbsp\; Musician John Bstandig with patriotic favorites.&nbsp\; 402-223-3514<br />\n<br />\n<a href="http://www.nps.gov/home">www.nps.gov/home</a>
LOCATION:
UID:e.41.5944
SEQUENCE:3
DTSTAMP:20260422T113448Z
URL:https://business.beatricechamber.com/events/details/4th-of-july-campfire-program-07-04-2012-5944
END:VEVENT

END:VCALENDAR
