BEGIN:VCALENDAR
VERSION:2.0
PRODID:-//ChamberMaster//Event Calendar 2.0//EN
METHOD:PUBLISH
X-PUBLISHED-TTL:P3D
REFRESH-INTERVAL:P3D
CALSCALE:GREGORIAN
BEGIN:VEVENT
DTSTART:20110704T160000Z
DTEND:20110704T180000Z
X-MICROSOFT-CDO-ALLDAYEVENT:FALSE
SUMMARY:4th of July Chicken Barbecue
DESCRIPTION:11 a.m.-1 p.m. at the Wymore American Legion.  Eat in or drive thru.  $8 per person.\n\n\n\nSponsored by the Sons of the American Legion
X-ALT-DESC;FMTTYPE=text/html:11 a.m.-1 p.m. at the Wymore American Legion.&nbsp\; Eat in or drive thru.&nbsp\; $8 per person.<br />\n<br />\nSponsored by the Sons of the American Legion
LOCATION:
UID:e.41.4933
SEQUENCE:3
DTSTAMP:20260424T155407Z
URL:https://business.beatricechamber.com/events/details/4th-of-july-chicken-barbecue-07-04-2011-4933
END:VEVENT

END:VCALENDAR
