BEGIN:VCALENDAR
VERSION:2.0
PRODID:-//ChamberMaster//Event Calendar 2.0//EN
METHOD:PUBLISH
X-PUBLISHED-TTL:P3D
REFRESH-INTERVAL:P3D
CALSCALE:GREGORIAN
BEGIN:VEVENT
DTSTART:20090704T150000Z
DTEND:20090704T180000Z
X-MICROSOFT-CDO-ALLDAYEVENT:FALSE
SUMMARY:4th of July Chicken BBQ
DESCRIPTION:4th of July Chicken BBQ11 am - 1 pmWymore LegionCost $7.50Drive thru availableSponsored by Wymore Sons of the American Legion
X-ALT-DESC;FMTTYPE=text/html:<div>4th of July Chicken BBQ</div><div>11 am - 1 pm</div><div>Wymore Legion</div><div>Cost $7.50</div><div>Drive thru available</div><div>Sponsored by Wymore Sons of the American Legion</div>
LOCATION:
UID:e.41.1261
SEQUENCE:3
DTSTAMP:20260426T030132Z
URL:https://business.beatricechamber.com/events/details/4th-of-july-chicken-bbq-07-04-2009-1261
END:VEVENT

END:VCALENDAR
