BEGIN:VCALENDAR
VERSION:2.0
PRODID:-//ChamberMaster//Event Calendar 2.0//EN
METHOD:PUBLISH
X-PUBLISHED-TTL:P3D
REFRESH-INTERVAL:P3D
CALSCALE:GREGORIAN
BEGIN:VEVENT
DTSTART;VALUE=DATE:20110730
DTEND;VALUE=DATE:20110731
TRANSP:TRANSPARENT
X-MICROSOFT-CDO-ALLDAYEVENT:TRUE
SUMMARY:5th Annual Blue Springs\, NE Auto and Bike Show
DESCRIPTION:9-11 a.m. Registration at 2 p.m.  Awards presented\, Broad Street\, Blue Springs\, NE.  11 a.m.-1 p.m. KUTT 99.5 Live Remote.  Vans BBQ.  Door prizes. \n\n\n\nFee is $10 per registration and $15 day of show.  Stay for the Street Dance after the car show - 9 p.m.-1 a.m. featuring "Zwarte" $10 cover.\n\n\n\nFor more information call 402-645-8222 or emaill reedyville@windstream.net
X-ALT-DESC;FMTTYPE=text/html:9-11 a.m. Registration at 2 p.m.&nbsp\; Awards presented\, Broad Street\, Blue Springs\, NE.&nbsp\; 11 a.m.-1 p.m. KUTT 99.5 Live Remote.&nbsp\; Vans BBQ.&nbsp\; Door prizes.&nbsp\;<br />\n<br />\nFee is $10 per registration and $15 day of show.&nbsp\; Stay for the Street Dance after the car show - 9 p.m.-1 a.m. featuring &quot\;Zwarte&quot\; $10 cover.<br />\n<br />\nFor more information call 402-645-8222 or emaill reedyville@windstream.net<br />\n
LOCATION:
UID:e.41.4939
SEQUENCE:3
DTSTAMP:20260424T153452Z
URL:https://business.beatricechamber.com/events/details/5th-annual-blue-springs-ne-auto-and-bike-show-07-30-2011-4939
END:VEVENT

END:VCALENDAR
