BEGIN:VCALENDAR
VERSION:2.0
PRODID:-//ChamberMaster//Event Calendar 2.0//EN
METHOD:PUBLISH
X-PUBLISHED-TTL:P3D
REFRESH-INTERVAL:P3D
CALSCALE:GREGORIAN
BEGIN:VEVENT
DTSTART;VALUE=DATE:20110730
DTEND;VALUE=DATE:20110731
TRANSP:TRANSPARENT
X-MICROSOFT-CDO-ALLDAYEVENT:TRUE
SUMMARY:64th Annual Blue Springs Tractor Display
DESCRIPTION:10:30 a.m. check-in\, Blue Springs city park shelter.  Car show.  Noon barbecue meal. Short tractor drive\, 2 p.m.\, to Good Samaritan Center in Wymore. \n\n\n\nFor more information contact Gary Neumann at 402-230-0229.
X-ALT-DESC;FMTTYPE=text/html:10:30 a.m. check-in\, Blue Springs city park shelter.&nbsp\; Car show.&nbsp\; Noon barbecue meal. Short tractor drive\, 2 p.m.\, to Good Samaritan Center in Wymore.&nbsp\;<br />\n<br />\nFor more information contact Gary Neumann at 402-230-0229.
LOCATION:
UID:e.41.4990
SEQUENCE:3
DTSTAMP:20260424T153131Z
URL:https://business.beatricechamber.com/events/details/64th-annual-blue-springs-tractor-display-07-30-2011-4990
END:VEVENT

END:VCALENDAR
