BEGIN:VCALENDAR
VERSION:2.0
PRODID:-//ChamberMaster//Event Calendar 2.0//EN
METHOD:PUBLISH
X-PUBLISHED-TTL:P3D
REFRESH-INTERVAL:P3D
CALSCALE:GREGORIAN
BEGIN:VEVENT
DTSTART;VALUE=DATE:20120119
DTEND;VALUE=DATE:20120120
TRANSP:TRANSPARENT
X-MICROSOFT-CDO-ALLDAYEVENT:TRUE
SUMMARY:6th Annual Ag-Management Expo of Southeast Nebraska
DESCRIPTION:Beatrice Area Chamber of Commerce and Southeast Community College present the 6th Annual Ag-Management Expo of Southeast Nebraska\n\n\n\nKeynote Speaker: Dr. Barry Flinchbaugh\n\nDr. Flinchbaugh is an award winning professor of Agricultural Economics at Kansas State University. He represents the agricultural community through his active participation in the development of U.S. agricultural policy. A native of York\, Pennsylvania\, he holds degrees from Penn State University and Purdue University. His service on numerous national task forces\, boards of directors\, and advisory groups has allowed him to provide input on domestic food and agriculture policy.
X-ALT-DESC;FMTTYPE=text/html:Beatrice Area Chamber of Commerce and Southeast Community College present the 6th Annual Ag-Management Expo of Southeast Nebraska<br />\n<br />\nKeynote Speaker: Dr. Barry Flinchbaugh<br />\nDr. Flinchbaugh is an award winning professor of Agricultural Economics at Kansas State University. He represents the agricultural community through his active participation in the development of U.S. agricultural policy. A native of York\, Pennsylvania\, he holds degrees from Penn State University and Purdue University. His service on numerous national task forces\, boards of directors\, and advisory groups has allowed him to provide input on domestic food and agriculture policy.
LOCATION:Southeast Community College Truman Center 4771 W. Scott Road Beatrice\, Nebraska 68310
UID:e.41.5253
SEQUENCE:3
DTSTAMP:20260422T202956Z
URL:https://business.beatricechamber.com/events/details/6th-annual-ag-management-expo-of-southeast-nebraska-01-19-2012-5253
END:VEVENT

END:VCALENDAR
