BEGIN:VCALENDAR
VERSION:2.0
PRODID:-//ChamberMaster//Event Calendar 2.0//EN
METHOD:PUBLISH
X-PUBLISHED-TTL:P3D
REFRESH-INTERVAL:P3D
CALSCALE:GREGORIAN
BEGIN:VEVENT
DTSTART:20120818T140000Z
DTEND:20120818T203000Z
X-MICROSOFT-CDO-ALLDAYEVENT:FALSE
SUMMARY:6th Annual Blue Springs\, NE Auto & Bike Show
DESCRIPTION:Registration 9-Noon\n\nAwards 3:30 pm\n\n\n\nEvent includes:\n\nTractor Show\n\nVan's BBQ\n\nMeet the trophy girl\n\nKUTT 99.5 Live Remote 11 am-1 pm\n\nBounce House\n\nDoor Prizes\n\n\n\nFor more info: 402-224-0063 or email reedyville@windstream.net
X-ALT-DESC;FMTTYPE=text/html:Registration 9-Noon<br />\nAwards 3:30 pm<br />\n<br />\n<strong>Event includes</strong>:<br />\nTractor Show<br />\nVan&#39\;s BBQ<br />\nMeet the trophy girl<br />\nKUTT 99.5 Live Remote 11 am-1 pm<br />\nBounce House<br />\nDoor Prizes<br />\n<br />\nFor more info: 402-224-0063 or email reedyville@windstream.net
LOCATION:Blue Springs\, NE
UID:e.41.6594
SEQUENCE:3
DTSTAMP:20260422T100908Z
URL:https://business.beatricechamber.com/events/details/6th-annual-blue-springs-ne-auto-bike-show-08-18-2012-6594
END:VEVENT

END:VCALENDAR
