BEGIN:VCALENDAR
VERSION:2.0
PRODID:-//ChamberMaster//Event Calendar 2.0//EN
METHOD:PUBLISH
X-PUBLISHED-TTL:P3D
REFRESH-INTERVAL:P3D
CALSCALE:GREGORIAN
BEGIN:VEVENT
DTSTART;VALUE=DATE:20110320
DTEND;VALUE=DATE:20110321
TRANSP:TRANSPARENT
X-MICROSOFT-CDO-ALLDAYEVENT:TRUE
SUMMARY:75th Anniversary - Homestead National Monument
DESCRIPTION:Homestead National Monument of America\n\nCelebrates 75th Anniversary\n\n\n\n10 am and 11 am\n\nRanger-guided prairie hikes starting at the Education Center \n\n\n\n12:30 pm\n\nBirthday cake\n\n\n\n1 pm\n\nProgram by Historian Blake Bell\n\n\n\n2 pm\n\nProgram about Senator Norris by former senator\, David Landis\n\n\n\n(402)223-3514
X-ALT-DESC;FMTTYPE=text/html:<span style="font-size: 16px"><strong>Homestead National Monument of America<br />\nCelebrates 75th Anniversary</strong></span><br />\n<br />\n10 am and 11 am<br />\nRanger-guided prairie hikes starting at the Education Center&nbsp\;<br />\n<br />\n12:30 pm<br />\nBirthday cake<br />\n<br />\n1 pm<br />\nProgram by Historian Blake Bell<br />\n<br />\n2 pm<br />\nProgram about Senator Norris by former senator\, David Landis<br />\n<br />\n(402)223-3514
LOCATION:
UID:e.41.4259
SEQUENCE:3
DTSTAMP:20260424T212511Z
URL:https://business.beatricechamber.com/events/details/75th-anniversary-homestead-national-monument-03-20-2011-4259
END:VEVENT

END:VCALENDAR
