BEGIN:VCALENDAR
VERSION:2.0
PRODID:-//ChamberMaster//Event Calendar 2.0//EN
METHOD:PUBLISH
X-PUBLISHED-TTL:P3D
REFRESH-INTERVAL:P3D
CALSCALE:GREGORIAN
BEGIN:VEVENT
DTSTART;VALUE=DATE:20101205
DTEND;VALUE=DATE:20101206
TRANSP:TRANSPARENT
X-MICROSOFT-CDO-ALLDAYEVENT:TRUE
SUMMARY:"A Christmas Carol"
DESCRIPTION:"A Christmas Carol"\n\n\n\n6 p.m.\, Hevelone Center for Performing Arts\, Beatrice High School\, 600 Orange Blvd. Third annual Christmas charity for Precision Dance\, presenters of the production. Proceeds benefit U.S. Marine Corps Toys for Tots and Gage County Wish List.\n\n\n\nTickets $7\; 239-6685\, e-mail: precisiondance@charter.net\, or stop by Precision Dance Inc.\, The Flower Shop or the Body Zone in Beatrice.
X-ALT-DESC;FMTTYPE=text/html:<strong><span style="font-size: 14px\;">&quot\;A Christmas Carol&quot\;</span></strong><br />\n<br />\n6 p.m.\, Hevelone Center for Performing Arts\, Beatrice High School\, 600 Orange Blvd. Third annual Christmas charity for Precision Dance\, presenters of the production. Proceeds benefit U.S. Marine Corps Toys for Tots and Gage County Wish List.<br />\n<br />\nTickets $7\; 239-6685\, e-mail: precisiondance@charter.net\, or stop by Precision Dance Inc.\, The Flower Shop or the Body Zone in Beatrice.<br />\n
LOCATION:
UID:e.41.2871
SEQUENCE:3
DTSTAMP:20260425T014300Z
URL:https://business.beatricechamber.com/events/details/a-christmas-carol-12-05-2010-2871
END:VEVENT

END:VCALENDAR
