BEGIN:VCALENDAR
VERSION:2.0
PRODID:-//ChamberMaster//Event Calendar 2.0//EN
METHOD:PUBLISH
X-PUBLISHED-TTL:P3D
REFRESH-INTERVAL:P3D
CALSCALE:GREGORIAN
BEGIN:VEVENT
DTSTART:20100506T230000Z
DTEND:20100507T010000Z
X-MICROSOFT-CDO-ALLDAYEVENT:FALSE
SUMMARY:A Night of Pampering with a Purpose
DESCRIPTION:The 2nd Annual A Night of Pampering with a Purpose.  Let yourself relax...rejuvenate...indulge... With a Night of massage\, detox foot bath\, makeup tips\, facials\, jewelry\, fitness\, spinal health checks\, refreshments\, and much\, much more!  All proceeds will benefit Mother to Mother Ministry\, an organization that provides support and encouragement to area mothers and their children.  And if you are one of the first 50 attendees to arrive for A Night of Pampering\, you will be provided with a gift bag filled with items supplied by those in the community who know what pampering is all about!  In addition\, each attendee present for A Night of Pampering will also be entered into a drawing for a grand prize!
X-ALT-DESC;FMTTYPE=text/html:The 2nd Annual A Night of Pampering with a Purpose.  Let yourself relax...rejuvenate...indulge... With a Night of massage\, detox foot bath\, makeup tips\, facials\, jewelry\, fitness\, spinal health checks\, refreshments\, and much\, much more!  All proceeds will benefit Mother to Mother Ministry\, an organization that provides support and encouragement to area mothers and their children.  And if you are one of the first 50 attendees to arrive for A Night of Pampering\, you will be provided with a gift bag filled with items supplied by those in the community who know what pampering is all about!  In addition\, each attendee present for A Night of Pampering will also be entered into a drawing for a grand prize!
LOCATION:Beatrice Family Chiropractic 2526 E. Court St. Beatrice\, NE 68310
UID:e.41.1951
SEQUENCE:3
DTSTAMP:20260425T122830Z
URL:https://business.beatricechamber.com/events/details/a-night-of-pampering-with-a-purpose-05-06-2010-1951
END:VEVENT

END:VCALENDAR
