BEGIN:VCALENDAR
VERSION:2.0
PRODID:-//ChamberMaster//Event Calendar 2.0//EN
METHOD:PUBLISH
X-PUBLISHED-TTL:P3D
REFRESH-INTERVAL:P3D
CALSCALE:GREGORIAN
BEGIN:VEVENT
DTSTART:20110603T000000Z
DTEND:20110603T030000Z
X-MICROSOFT-CDO-ALLDAYEVENT:FALSE
SUMMARY:A Tribute to Elvis
DESCRIPTION:Beatrice Vipers 18 Softball is sponsoring Elvis Impersonator\, Tyler Hunter\, to raise funds to go to National Softball Tournament in Tulsa\, Oklahoma.  Reserved (limited) seating includes upfront seating and back stage passes and a picture with Elvis.
X-ALT-DESC;FMTTYPE=text/html:Beatrice Vipers 18 Softball is sponsoring Elvis Impersonator\, Tyler Hunter\,&nbsp\;to raise funds to go to National Softball Tournament in Tulsa\, Oklahoma.&nbsp\; Reserved (limited) seating includes upfront seating and back stage passes and a picture with Elvis.&nbsp\; 
LOCATION:Beatrice High School Hevelone Center
UID:e.41.4835
SEQUENCE:3
DTSTAMP:20260424T165610Z
URL:https://business.beatricechamber.com/events/details/a-tribute-to-elvis-06-02-2011-4835
END:VEVENT

END:VCALENDAR
