BEGIN:VCALENDAR
VERSION:2.0
PRODID:-//ChamberMaster//Event Calendar 2.0//EN
METHOD:PUBLISH
X-PUBLISHED-TTL:P3D
REFRESH-INTERVAL:P3D
CALSCALE:GREGORIAN
BEGIN:VEVENT
DTSTART;VALUE=DATE:20110529
DTEND;VALUE=DATE:20110530
TRANSP:TRANSPARENT
X-MICROSOFT-CDO-ALLDAYEVENT:TRUE
SUMMARY:Abraham Lincoln to be presented at Welsh Centre
DESCRIPTION:Abraham Lincoln to be presented at Welsh Centre\n\n	\n\n	Lonn Pressnall will present "Abraham Lincoln" at The Welsh Centre\, 307 S 7th Street\, Wymore\n\n	\n\n	Sunday\, May 29\n\n	2 pm\n\n	\n\n	Pressnall portrays Abraham Lincoln with respect and appreciation for Lincoln's dignity and humor\, and brings to life Lincoln's love of theatre.\n\n	\n\n	Tickets are $2 for adults and 50 cents for students\, with procceeds going to "One Community\, Many Stories\," the Summer Reading Program at Wymore Library.  Advance tickets are available at the Wymore Public Library.
X-ALT-DESC;FMTTYPE=text/html:<p>\n	Abraham Lincoln to be presented at Welsh Centre<br />\n	<br />\n	Lonn Pressnall will present &quot\;Abraham Lincoln&quot\; at The Welsh Centre\, 307 S 7th Street\, Wymore<br />\n	<br />\n	Sunday\, May 29<br />\n	2 pm<br />\n	<br />\n	Pressnall portrays Abraham Lincoln with respect and appreciation for Lincoln&#39\;s dignity and humor\, and brings to life Lincoln&#39\;s love of theatre.<br />\n	<br />\n	Tickets are $2 for adults and 50 cents for students\, with procceeds going to &quot\;One Community\, Many Stories\,&quot\; the Summer Reading Program at Wymore Library.&nbsp\; Advance tickets are available at the Wymore Public Library.</p>\n
LOCATION:
UID:e.41.4823
SEQUENCE:3
DTSTAMP:20260424T183034Z
URL:https://business.beatricechamber.com/events/details/abraham-lincoln-to-be-presented-at-welsh-centre-05-29-2011-4823
END:VEVENT

END:VCALENDAR
