BEGIN:VCALENDAR
VERSION:2.0
PRODID:-//ChamberMaster//Event Calendar 2.0//EN
METHOD:PUBLISH
X-PUBLISHED-TTL:P3D
REFRESH-INTERVAL:P3D
CALSCALE:GREGORIAN
BEGIN:VEVENT
DTSTART:20090815T010000Z
DTEND:20090814T170000Z
X-MICROSOFT-CDO-ALLDAYEVENT:FALSE
SUMMARY:Adams 2nd Annual Street Dance
DESCRIPTION:The Adams Community Foundation is sponsoring the2nd Annual Adams Street Dancefeaturing "Cactus Hill" Friday\, August 14\, 2009Gates open at 8:00 pmBand Starts at 9:00 pm Food & Beer Concessions
X-ALT-DESC;FMTTYPE=text/html:<div><span style="font-size: medium">The Adams Community Foundation is sponsoring the</span></div><div><span style="font-size: medium">2nd Annual Adams Street Dance</span></div><div><span style="font-size: medium">featuring &quot\;Cactus Hill&quot\;</span></div><div>&nbsp\;</div><div><span style="font-size: small">Friday\, August 14\, 2009</span></div><div><span style="font-size: small">Gates open at 8:00 pm</span></div><div><span style="font-size: small">Band Starts at 9:00 pm</span></div><div>&nbsp\;</div><div><span style="font-size: small">Food &amp\;&nbsp\;Beer Concessions</span></div>
LOCATION:
UID:e.41.1383
SEQUENCE:3
DTSTAMP:20260426T012028Z
URL:https://business.beatricechamber.com/events/details/adams-2nd-annual-street-dance-08-14-2009-1383
END:VEVENT

END:VCALENDAR
