BEGIN:VCALENDAR
VERSION:2.0
PRODID:-//ChamberMaster//Event Calendar 2.0//EN
METHOD:PUBLISH
X-PUBLISHED-TTL:P3D
REFRESH-INTERVAL:P3D
CALSCALE:GREGORIAN
BEGIN:VEVENT
DTSTART;VALUE=DATE:20110609
DTEND;VALUE=DATE:20110610
TRANSP:TRANSPARENT
X-MICROSOFT-CDO-ALLDAYEVENT:TRUE
SUMMARY:Adams and Cooley
DESCRIPTION:Beatrice Area Arts Council presents\n\n\n\nAdams and Cooley\n\n\n\nThursday\, June 9\n\n7:30 pm\n\nHevelone Center for Performing Arts\n\n\n\nIf there is such an expression as "ultra professional\," it might be used to describe the music of the Ron Cooley Quintet.\n\n\n\nRat Pack Jazz will give the audience a trip back to the night clubs of years ago as vocalist Johnny Adams sings tunes made famous by Frank Sinatra\, Dean Martin\, and Nat King Cole.  The quintet is also comprised of Dennis Strawn on saxophone\, clarinet or flute\; Ron Cooley\, guitar\; Andy Hall\, bass\; and Carlos Figueroa on drums.\n\n\n\nTickets for the event are $10 and will be available in advance at Security First Bank.  The Beatrice Area Arts Council is a member-driven organization of those who support the Fine Arts in Southeast Nebraska.  For information about the Arts Council\, upcoming events\, or membership visit their website at www.beatriceareaartscouncil.org.
X-ALT-DESC;FMTTYPE=text/html:Beatrice Area Arts Council presents<br />\n<br />\nAdams and Cooley<br />\n<br />\nThursday\, June 9<br />\n7:30 pm<br />\nHevelone Center for Performing Arts<br />\n<br />\nIf there is such an expression as &quot\;ultra professional\,&quot\; it might be used to describe the music of the Ron Cooley Quintet.<br />\n<br />\nRat Pack Jazz will give the audience a trip back to the night clubs of years ago as vocalist Johnny Adams sings tunes made famous by Frank Sinatra\, Dean Martin\, and Nat King Cole.&nbsp\; The quintet is also comprised of Dennis Strawn on saxophone\, clarinet or flute\; Ron Cooley\, guitar\; Andy Hall\, bass\; and Carlos Figueroa on drums.<br />\n<br />\nTickets for the event are $10 and will be available in advance at Security First Bank.&nbsp\; The Beatrice Area Arts Council is a member-driven organization of those who support the Fine Arts in Southeast Nebraska.&nbsp\; For information about the Arts Council\, upcoming events\, or membership visit their website at <a href="http://www.beatriceareaartscouncil.org">www.beatriceareaartscouncil.org</a>.
LOCATION:
UID:e.41.4845
SEQUENCE:3
DTSTAMP:20260424T165441Z
URL:https://business.beatricechamber.com/events/details/adams-and-cooley-06-09-2011-4845
END:VEVENT

END:VCALENDAR
