BEGIN:VCALENDAR
VERSION:2.0
PRODID:-//ChamberMaster//Event Calendar 2.0//EN
METHOD:PUBLISH
X-PUBLISHED-TTL:P3D
REFRESH-INTERVAL:P3D
CALSCALE:GREGORIAN
BEGIN:VEVENT
DTSTART;VALUE=DATE:20110820
DTEND;VALUE=DATE:20110821
TRANSP:TRANSPARENT
X-MICROSOFT-CDO-ALLDAYEVENT:TRUE
SUMMARY:Adams Community Days
DESCRIPTION:Adams Community Days\n\n\n\nAdams\, NE\n\n(402)988-2269 or visit www.ci.adams.ne.us
X-ALT-DESC;FMTTYPE=text/html:Adams Community Days<br />\n<br />\nAdams\, NE<br />\n(402)988-2269 or visit www.ci.adams.ne.us<br />\n
LOCATION:
UID:e.41.4853
SEQUENCE:3
DTSTAMP:20260424T134359Z
URL:https://business.beatricechamber.com/events/details/adams-community-days-08-20-2011-4853
END:VEVENT

END:VCALENDAR
