BEGIN:VCALENDAR
VERSION:2.0
PRODID:-//ChamberMaster//Event Calendar 2.0//EN
METHOD:PUBLISH
X-PUBLISHED-TTL:P3D
REFRESH-INTERVAL:P3D
CALSCALE:GREGORIAN
BEGIN:VEVENT
DTSTART;VALUE=DATE:20110220
DTEND;VALUE=DATE:20110221
TRANSP:TRANSPARENT
X-MICROSOFT-CDO-ALLDAYEVENT:TRUE
SUMMARY:African American History Month
DESCRIPTION:Homestead National Monument of America highlights African American History Month\n\n	\n\n	Monument Historian\, Blake Bell\, will examine the fascinating life of Oscar Micheaux\, whoi s considered to be the "Father of African American Cinema."\n\n	\n\n	Sunday\, February 20\n\n	2 p.m.\n\n	\n\n	Homestead National Monument of America's Education Center
X-ALT-DESC;FMTTYPE=text/html:<p>\n	Homestead National Monument of America highlights African American History Month<br />\n	<br />\n	Monument Historian\, Blake Bell\, will examine the fascinating life of Oscar Micheaux\, whoi s considered to be the &quot\;Father of African American Cinema.&quot\;<br />\n	<br />\n	Sunday\, February 20<br />\n	2 p.m.<br />\n	<br />\n	Homestead National Monument of America&#39\;s Education Center<br />\n	<br />\n	&nbsp\;</p>\n
LOCATION:
UID:e.41.4189
SEQUENCE:3
DTSTAMP:20260424T225642Z
URL:https://business.beatricechamber.com/events/details/african-american-history-month-02-20-2011-4189
END:VEVENT

END:VCALENDAR
